BEGIN:VCALENDAR
VERSION:2.0
PRODID:-//PYVOBJECT//NONSGML Version 1//EN
BEGIN:VEVENT
UID:19306:1237
DTSTART:20130128T000000
DTEND:20130430T000000
DESCRIPTION:
DTSTAMP:20260424T202354Z
SUMMARY:Zuverlässig und sauber - Blechschadenreparatur bei uns - Ihr Karos
 seriemeister Alfred Bramberger!
END:VEVENT
END:VCALENDAR
